BEGIN:VCALENDAR
VERSION:2.0
PRODID:-//CENJARS - ECPv5.16.4//NONSGML v1.0//EN
CALSCALE:GREGORIAN
METHOD:PUBLISH
X-WR-CALNAME:CENJARS
X-ORIGINAL-URL:https://cenjars.org
X-WR-CALDESC:Events for CENJARS
REFRESH-INTERVAL;VALUE=DURATION:PT1H
X-Robots-Tag:noindex
X-PUBLISHED-TTL:PT1H
BEGIN:VTIMEZONE
TZID:Asia/Karachi
BEGIN:STANDARD
TZOFFSETFROM:+0500
TZOFFSETTO:+0500
TZNAME:PKT
DTSTART:20240101T000000
END:STANDARD
END:VTIMEZONE
BEGIN:VEVENT
DTSTART;TZID=Asia/Karachi:20240901T123000
DTEND;TZID=Asia/Karachi:20240901T170000
DTSTAMP:20260423T062800
CREATED:20230930T195732Z
LAST-MODIFIED:20240814T124113Z
UID:22423-1725193800-1725210000@cenjars.org
SUMMARY:SCHEDULED LAUNCH
DESCRIPTION:😁CENJARS scheduled Launch for the month of September 2024.
URL:https://cenjars.org/event/scheduled-launch-27/
LOCATION:Wall High School Athletic Complex\, Wall High School Athletic Complex\, 18th Avenue\, Wall\, NJ\, United States
CATEGORIES:Launch
END:VEVENT
BEGIN:VEVENT
DTSTART;TZID=Asia/Karachi:20240921T100000
DTEND;TZID=Asia/Karachi:20240921T140000
DTSTAMP:20260423T062800
CREATED:20240829T201941Z
LAST-MODIFIED:20240829T202819Z
UID:25263-1726912800-1726927200@cenjars.org
SUMMARY:Kids Day America 2024
DESCRIPTION:CENJARS outreach demonstration launch at Kids Day America 2024
URL:https://cenjars.org/event/kids-day-america-2024/
LOCATION:Wall Municipal Building Courtyard\, 2700 Allaire Road\, Wall Township\, NJ\, 07719-9570\, United States
CATEGORIES:Outreach
END:VEVENT
BEGIN:VEVENT
DTSTART;TZID=Asia/Karachi:20240922T100000
DTEND;TZID=Asia/Karachi:20240922T140000
DTSTAMP:20260423T062800
CREATED:20240829T202053Z
LAST-MODIFIED:20240829T202855Z
UID:25265-1726999200-1727013600@cenjars.org
SUMMARY:Kids Day America 2024 — Rain Date
DESCRIPTION:CENJARS outreach demonstration launch at Kids Day America 2024
URL:https://cenjars.org/event/kids-day-america-2024-rain-date/
LOCATION:Wall Municipal Building Courtyard\, 2700 Allaire Road\, Wall Township\, NJ\, 07719-9570\, United States
CATEGORIES:Outreach
END:VEVENT
END:VCALENDAR