BEGIN:VCALENDAR
VERSION:2.0
PRODID:-//CENJARS - ECPv5.16.4//NONSGML v1.0//EN
CALSCALE:GREGORIAN
METHOD:PUBLISH
X-ORIGINAL-URL:https://cenjars.org
X-WR-CALDESC:Events for CENJARS
REFRESH-INTERVAL;VALUE=DURATION:PT1H
X-Robots-Tag:noindex
X-PUBLISHED-TTL:PT1H
BEGIN:VTIMEZONE
TZID:Asia/Karachi
BEGIN:STANDARD
TZOFFSETFROM:+0500
TZOFFSETTO:+0500
TZNAME:PKT
DTSTART:20250101T000000
END:STANDARD
TZID:America/New_York
BEGIN:DAYLIGHT
TZOFFSETFROM:-0500
TZOFFSETTO:-0400
TZNAME:EDT
DTSTART:20250309T070000
END:DAYLIGHT
BEGIN:STANDARD
TZOFFSETFROM:-0400
TZOFFSETTO:-0500
TZNAME:EST
DTSTART:20251102T060000
END:STANDARD
END:VTIMEZONE
BEGIN:VEVENT
DTSTART;TZID=Asia/Karachi:20251005T123000
DTEND;TZID=Asia/Karachi:20251005T170000
DTSTAMP:20260423T055340
CREATED:20241202T134222Z
LAST-MODIFIED:20241202T134222Z
UID:26382-1759667400-1759683600@cenjars.org
SUMMARY:SCHEDULED LAUNCH
DESCRIPTION:CENJARS scheduled Launch for the month of October 2025.
URL:https://cenjars.org/event/scheduled-launch-oct-2025/
LOCATION:Wall High School Athletic Complex\, Wall High School Athletic Complex\, 18th Avenue\, Wall\, NJ\, United States
CATEGORIES:Launch
END:VEVENT
BEGIN:VEVENT
DTSTART;TZID=Asia/Karachi:20251102T123000
DTEND;TZID=Asia/Karachi:20251102T170000
DTSTAMP:20260423T055340
CREATED:20241202T134311Z
LAST-MODIFIED:20241202T134311Z
UID:26384-1762086600-1762102800@cenjars.org
SUMMARY:SCHEDULED LAUNCH
DESCRIPTION:CENJARS scheduled Launch for the month of November 2025.
URL:https://cenjars.org/event/scheduled-launch-nov-2025/
LOCATION:Wall High School Athletic Complex\, Wall High School Athletic Complex\, 18th Avenue\, Wall\, NJ\, United States
CATEGORIES:Launch
END:VEVENT
BEGIN:VEVENT
DTSTART;TZID=America/New_York:20251205T180000
DTEND;TZID=America/New_York:20251205T200000
DTSTAMP:20260423T055340
CREATED:20251017T135016Z
LAST-MODIFIED:20251017T135016Z
UID:29059-1764957600-1764964800@cenjars.org
SUMMARY:Wall *Holiday* Tree lighting
DESCRIPTION:
URL:https://cenjars.org/event/wall-holiday-tree-lighting-2025/
LOCATION:Wall Municipal Building Courtyard\, 2700 Allaire Road\, Wall Township\, NJ\, 07719-9570\, United States
END:VEVENT
BEGIN:VEVENT
DTSTART;TZID=Asia/Karachi:20251207T123000
DTEND;TZID=Asia/Karachi:20251207T170000
DTSTAMP:20260423T055340
CREATED:20241202T134342Z
LAST-MODIFIED:20241202T134342Z
UID:26386-1765110600-1765126800@cenjars.org
SUMMARY:SCHEDULED LAUNCH
DESCRIPTION:CENJARS scheduled Launch for the month of December 2025.
URL:https://cenjars.org/event/scheduled-launch-33/
LOCATION:Wall High School Athletic Complex\, Wall High School Athletic Complex\, 18th Avenue\, Wall\, NJ\, United States
CATEGORIES:Launch
END:VEVENT
BEGIN:VEVENT
DTSTART;TZID=Asia/Karachi:20260104T123000
DTEND;TZID=Asia/Karachi:20260104T170000
DTSTAMP:20260423T055340
CREATED:20251208T201429Z
LAST-MODIFIED:20251208T201456Z
UID:29583-1767529800-1767546000@cenjars.org
SUMMARY:SCHEDULED LAUNCH
DESCRIPTION:CENJARS scheduled Launch for the month of January 2026.
URL:https://cenjars.org/event/scheduled-launch-jan-2026/
LOCATION:Wall High School Athletic Complex\, Wall High School Athletic Complex\, 18th Avenue\, Wall\, NJ\, United States
CATEGORIES:Launch
END:VEVENT
BEGIN:VEVENT
DTSTART;TZID=Asia/Karachi:20260201T123000
DTEND;TZID=Asia/Karachi:20260201T170000
DTSTAMP:20260423T055340
CREATED:20251208T201608Z
LAST-MODIFIED:20260130T005730Z
UID:29586-1769949000-1769965200@cenjars.org
SUMMARY:SCHEDULED LAUNCH
DESCRIPTION:CENJARS scheduled Launch for the month of February 2026.
URL:https://cenjars.org/event/scheduled-launch-feb-2026-2/
LOCATION:Wall High School Athletic Complex\, Wall High School Athletic Complex\, 18th Avenue\, Wall\, NJ\, United States
CATEGORIES:Launch
END:VEVENT
BEGIN:VEVENT
DTSTART;TZID=Asia/Karachi:20260301T123000
DTEND;TZID=Asia/Karachi:20260301T170000
DTSTAMP:20260423T055340
CREATED:20251208T201649Z
LAST-MODIFIED:20260227T205618Z
UID:29588-1772368200-1772384400@cenjars.org
SUMMARY:SCHEDULED LAUNCH
DESCRIPTION:CENJARS scheduled Launch for the month of March 2026.
URL:https://cenjars.org/event/scheduled-launch-mar-2026/
LOCATION:Wall High School Athletic Complex\, Wall High School Athletic Complex\, 18th Avenue\, Wall\, NJ\, United States
CATEGORIES:Launch
END:VEVENT
BEGIN:VEVENT
DTSTART;TZID=Asia/Karachi:20260308T123000
DTEND;TZID=Asia/Karachi:20260308T170000
DTSTAMP:20260423T055340
CREATED:20260302T193101Z
LAST-MODIFIED:20260302T193203Z
UID:29994-1772973000-1772989200@cenjars.org
SUMMARY:SCHEDULED LAUNCH
DESCRIPTION:CENJARS scheduled Launch for the month of March 2026.
URL:https://cenjars.org/event/scheduled-launch-march-8-2026/
LOCATION:Wall High School Athletic Complex\, Wall High School Athletic Complex\, 18th Avenue\, Wall\, NJ\, United States
CATEGORIES:Launch
END:VEVENT
BEGIN:VEVENT
DTSTART;TZID=Asia/Karachi:20260315T123000
DTEND;TZID=Asia/Karachi:20260315T170000
DTSTAMP:20260423T055340
CREATED:20260302T193314Z
LAST-MODIFIED:20260302T193314Z
UID:29996-1773577800-1773594000@cenjars.org
SUMMARY:SCHEDULED LAUNCH
DESCRIPTION:CENJARS scheduled Launch for the month of March 2026.
URL:https://cenjars.org/event/scheduled-launch-march-15-2026/
LOCATION:Wall High School Athletic Complex\, Wall High School Athletic Complex\, 18th Avenue\, Wall\, NJ\, United States
CATEGORIES:Launch
END:VEVENT
BEGIN:VEVENT
DTSTART;TZID=Asia/Karachi:20260322T123000
DTEND;TZID=Asia/Karachi:20260322T170000
DTSTAMP:20260423T055340
CREATED:20260302T193417Z
LAST-MODIFIED:20260302T193417Z
UID:29998-1774182600-1774198800@cenjars.org
SUMMARY:SCHEDULED LAUNCH
DESCRIPTION:CENJARS scheduled Launch for the month of March 2026.
URL:https://cenjars.org/event/scheduled-launch-march-22-2026/
LOCATION:Wall High School Athletic Complex\, Wall High School Athletic Complex\, 18th Avenue\, Wall\, NJ\, United States
CATEGORIES:Launch
END:VEVENT
BEGIN:VEVENT
DTSTART;TZID=Asia/Karachi:20260329T123000
DTEND;TZID=Asia/Karachi:20260329T170000
DTSTAMP:20260423T055340
CREATED:20260302T193531Z
LAST-MODIFIED:20260302T193531Z
UID:30000-1774787400-1774803600@cenjars.org
SUMMARY:SCHEDULED LAUNCH
DESCRIPTION:CENJARS scheduled Launch for the month of March 2026.
URL:https://cenjars.org/event/scheduled-launch-march-29-2029/
LOCATION:Wall High School Athletic Complex\, Wall High School Athletic Complex\, 18th Avenue\, Wall\, NJ\, United States
CATEGORIES:Launch
END:VEVENT
BEGIN:VEVENT
DTSTART;TZID=Asia/Karachi:20260419T123000
DTEND;TZID=Asia/Karachi:20260419T170000
DTSTAMP:20260423T055340
CREATED:20251208T201748Z
LAST-MODIFIED:20260419T113533Z
UID:29590-1776601800-1776618000@cenjars.org
SUMMARY:SCHEDULED LAUNCH
DESCRIPTION:CENJARS scheduled Launch for the month of April 2026.
URL:https://cenjars.org/event/scheduled-launch-apr-2026/
LOCATION:Wall High School Athletic Complex\, Wall High School Athletic Complex\, 18th Avenue\, Wall\, NJ\, United States
CATEGORIES:Launch
END:VEVENT
BEGIN:VEVENT
DTSTART;TZID=Asia/Karachi:20260503T123000
DTEND;TZID=Asia/Karachi:20260503T170000
DTSTAMP:20260423T055340
CREATED:20251208T201828Z
LAST-MODIFIED:20251208T201838Z
UID:29592-1777811400-1777827600@cenjars.org
SUMMARY:SCHEDULED LAUNCH
DESCRIPTION:CENJARS scheduled Launch for the month of May 2026.
URL:https://cenjars.org/event/scheduled-launch-may-2026/
LOCATION:Wall High School Athletic Complex\, Wall High School Athletic Complex\, 18th Avenue\, Wall\, NJ\, United States
CATEGORIES:Launch
END:VEVENT
BEGIN:VEVENT
DTSTART;TZID=Asia/Karachi:20260512T080000
DTEND;TZID=Asia/Karachi:20260512T110000
DTSTAMP:20260423T055340
CREATED:20260418T151526Z
LAST-MODIFIED:20260418T152017Z
UID:30906-1778572800-1778583600@cenjars.org
SUMMARY:Arbor School Launch
DESCRIPTION:CENJARS outreach launch at Arbor Elementary School
URL:https://cenjars.org/event/arbor-school-launch-may-12-2026/
LOCATION:Arbor Elementary School\, 1717 Lester Place\, Piscataway\, NJ\, United States
CATEGORIES:Outreach
END:VEVENT
BEGIN:VEVENT
DTSTART;TZID=Asia/Karachi:20260514T080000
DTEND;TZID=Asia/Karachi:20260514T100000
DTSTAMP:20260423T055340
CREATED:20260418T152147Z
LAST-MODIFIED:20260418T152147Z
UID:30909-1778745600-1778752800@cenjars.org
SUMMARY:Arbor School Launch (rain date)
DESCRIPTION:CENJARS outreach launch at Arbor Elementary School (rain date/alternate)
URL:https://cenjars.org/event/arbor-school-launch-rain-date-may-14-2026y/
LOCATION:Arbor Elementary School\, 1717 Lester Place\, Piscataway\, NJ\, United States
CATEGORIES:Outreach
END:VEVENT
BEGIN:VEVENT
DTSTART;TZID=Asia/Karachi:20260607T123000
DTEND;TZID=Asia/Karachi:20260607T170000
DTSTAMP:20260423T055340
CREATED:20251208T201921Z
LAST-MODIFIED:20251208T201921Z
UID:29594-1780835400-1780851600@cenjars.org
SUMMARY:SCHEDULED LAUNCH
DESCRIPTION:CENJARS scheduled Launch for the month of June 2026.
URL:https://cenjars.org/event/scheduled-launch-jun-2026/
LOCATION:Wall High School Athletic Complex\, Wall High School Athletic Complex\, 18th Avenue\, Wall\, NJ\, United States
CATEGORIES:Launch
END:VEVENT
BEGIN:VEVENT
DTSTART;TZID=Asia/Karachi:20260705T123000
DTEND;TZID=Asia/Karachi:20260705T170000
DTSTAMP:20260423T055340
CREATED:20251208T202015Z
LAST-MODIFIED:20251208T202015Z
UID:29596-1783254600-1783270800@cenjars.org
SUMMARY:SCHEDULED LAUNCH
DESCRIPTION:CENJARS scheduled Launch for the month of July 2026.
URL:https://cenjars.org/event/scheduled-launch-jul-2026/
LOCATION:Wall High School Athletic Complex\, Wall High School Athletic Complex\, 18th Avenue\, Wall\, NJ\, United States
CATEGORIES:Launch
END:VEVENT
BEGIN:VEVENT
DTSTART;TZID=Asia/Karachi:20260802T123000
DTEND;TZID=Asia/Karachi:20260802T170000
DTSTAMP:20260423T055340
CREATED:20251208T202102Z
LAST-MODIFIED:20251208T202102Z
UID:29598-1785673800-1785690000@cenjars.org
SUMMARY:SCHEDULED LAUNCH
DESCRIPTION:CENJARS scheduled Launch for the month of August 2026.
URL:https://cenjars.org/event/scheduled-launch-aug-2026/
LOCATION:Wall High School Athletic Complex\, Wall High School Athletic Complex\, 18th Avenue\, Wall\, NJ\, United States
CATEGORIES:Launch
END:VEVENT
BEGIN:VEVENT
DTSTART;TZID=Asia/Karachi:20260906T123000
DTEND;TZID=Asia/Karachi:20260906T170000
DTSTAMP:20260423T055340
CREATED:20251208T202151Z
LAST-MODIFIED:20251208T202203Z
UID:29600-1788697800-1788714000@cenjars.org
SUMMARY:SCHEDULED LAUNCH
DESCRIPTION:CENJARS scheduled Launch for the month of September 2026.
URL:https://cenjars.org/event/scheduled-launch-sep-2026/
LOCATION:Wall High School Athletic Complex\, Wall High School Athletic Complex\, 18th Avenue\, Wall\, NJ\, United States
CATEGORIES:Launch
END:VEVENT
BEGIN:VEVENT
DTSTART;TZID=Asia/Karachi:20261004T123000
DTEND;TZID=Asia/Karachi:20261004T170000
DTSTAMP:20260423T055340
CREATED:20251208T202242Z
LAST-MODIFIED:20251208T202242Z
UID:29603-1791117000-1791133200@cenjars.org
SUMMARY:SCHEDULED LAUNCH
DESCRIPTION:CENJARS scheduled Launch for the month of October 2026.
URL:https://cenjars.org/event/scheduled-launch-oct-2026/
LOCATION:Wall High School Athletic Complex\, Wall High School Athletic Complex\, 18th Avenue\, Wall\, NJ\, United States
CATEGORIES:Launch
END:VEVENT
BEGIN:VEVENT
DTSTART;TZID=Asia/Karachi:20261101T123000
DTEND;TZID=Asia/Karachi:20261101T170000
DTSTAMP:20260423T055341
CREATED:20251208T202333Z
LAST-MODIFIED:20251208T202333Z
UID:29605-1793536200-1793552400@cenjars.org
SUMMARY:SCHEDULED LAUNCH
DESCRIPTION:CENJARS scheduled Launch for the month of November 2026.
URL:https://cenjars.org/event/scheduled-launch-nov-2026/
LOCATION:Wall High School Athletic Complex\, Wall High School Athletic Complex\, 18th Avenue\, Wall\, NJ\, United States
CATEGORIES:Launch
END:VEVENT
BEGIN:VEVENT
DTSTART;TZID=Asia/Karachi:20261206T123000
DTEND;TZID=Asia/Karachi:20261206T170000
DTSTAMP:20260423T055341
CREATED:20251208T202420Z
LAST-MODIFIED:20251208T202420Z
UID:29607-1796560200-1796576400@cenjars.org
SUMMARY:SCHEDULED LAUNCH
DESCRIPTION:CENJARS scheduled Launch for the month of December 2026.
URL:https://cenjars.org/event/scheduled-launch-dec-2026/
LOCATION:Wall High School Athletic Complex\, Wall High School Athletic Complex\, 18th Avenue\, Wall\, NJ\, United States
CATEGORIES:Launch
END:VEVENT
END:VCALENDAR