BEGIN:VCALENDAR
VERSION:2.0
PRODID:-//CENJARS - ECPv5.16.4//NONSGML v1.0//EN
CALSCALE:GREGORIAN
METHOD:PUBLISH
X-WR-CALNAME:CENJARS
X-ORIGINAL-URL:https://cenjars.org
X-WR-CALDESC:Events for CENJARS
REFRESH-INTERVAL;VALUE=DURATION:PT1H
X-Robots-Tag:noindex
X-PUBLISHED-TTL:PT1H
BEGIN:VTIMEZONE
TZID:Asia/Karachi
BEGIN:STANDARD
TZOFFSETFROM:+0500
TZOFFSETTO:+0500
TZNAME:PKT
DTSTART:20240101T000000
END:STANDARD
TZID:America/New_York
BEGIN:DAYLIGHT
TZOFFSETFROM:-0500
TZOFFSETTO:-0400
TZNAME:EDT
DTSTART:20240310T070000
END:DAYLIGHT
BEGIN:STANDARD
TZOFFSETFROM:-0400
TZOFFSETTO:-0500
TZNAME:EST
DTSTART:20241103T060000
END:STANDARD
BEGIN:DAYLIGHT
TZOFFSETFROM:-0500
TZOFFSETTO:-0400
TZNAME:EDT
DTSTART:20250309T070000
END:DAYLIGHT
BEGIN:STANDARD
TZOFFSETFROM:-0400
TZOFFSETTO:-0500
TZNAME:EST
DTSTART:20251102T060000
END:STANDARD
END:VTIMEZONE
BEGIN:VEVENT
DTSTART;TZID=Asia/Karachi:20250920T100000
DTEND;TZID=Asia/Karachi:20250920T140000
DTSTAMP:20260423T060008
CREATED:20240925T041604Z
LAST-MODIFIED:20250604T124748Z
UID:25541-1758362400-1758376800@cenjars.org
SUMMARY:Kids Day America 2025
DESCRIPTION:CENJARS outreach demonstration launch at Kids Day America 2025
URL:https://cenjars.org/event/kids-day-america-2025/
LOCATION:Wall Municipal Building Courtyard\, 2700 Allaire Road\, Wall Township\, NJ\, 07719-9570\, United States
CATEGORIES:Outreach
END:VEVENT
BEGIN:VEVENT
DTSTART;TZID=Asia/Karachi:20250914T123000
DTEND;TZID=Asia/Karachi:20250914T170000
DTSTAMP:20260423T060008
CREATED:20250911T205159Z
LAST-MODIFIED:20250911T205159Z
UID:28490-1757853000-1757869200@cenjars.org
SUMMARY:SCHEDULED LAUNCH
DESCRIPTION:CENJARS scheduled Launch for the month of September 2025.
URL:https://cenjars.org/event/scheduled-launch-37/
LOCATION:Wall High School Athletic Complex\, Wall High School Athletic Complex\, 18th Avenue\, Wall\, NJ\, United States
CATEGORIES:Launch
END:VEVENT
BEGIN:VEVENT
DTSTART;TZID=Asia/Karachi:20250907T123000
DTEND;TZID=Asia/Karachi:20250907T170000
DTSTAMP:20260423T060008
CREATED:20241202T134122Z
LAST-MODIFIED:20250907T113820Z
UID:26380-1757248200-1757264400@cenjars.org
SUMMARY:SCHEDULED LAUNCH
DESCRIPTION:CENJARS scheduled Launch for the month of September 2025.
URL:https://cenjars.org/event/scheduled-launch-sep-2025/
LOCATION:Wall High School Athletic Complex\, Wall High School Athletic Complex\, 18th Avenue\, Wall\, NJ\, United States
CATEGORIES:Launch
END:VEVENT
BEGIN:VEVENT
DTSTART;TZID=America/New_York:20250809T090000
DTEND;TZID=America/New_York:20250809T140000
DTSTAMP:20260423T060008
CREATED:20240816T131413Z
LAST-MODIFIED:20240816T131644Z
UID:25178-1754730000-1754748000@cenjars.org
SUMMARY:Millstone Scouts Rocket Launch
DESCRIPTION:Millstone Scouts have asked CENJARS to assist with their rocket launch.
URL:https://cenjars.org/event/millstone-scouts-rocket-launch-2/
LOCATION:Millstone Middle School\, 5 Dawson Court\, Millstone Township\, NJ\, United States
CATEGORIES:Build
END:VEVENT
BEGIN:VEVENT
DTSTART;TZID=America/New_York:20250808T180000
DTEND;TZID=America/New_York:20250808T210000
DTSTAMP:20260423T060008
CREATED:20240816T131512Z
LAST-MODIFIED:20240816T131734Z
UID:25177-1754676000-1754686800@cenjars.org
SUMMARY:Millstone Scouts Rocket Build
DESCRIPTION:Millstone Scouts have asked CENJARS to assist with their rocket build.
URL:https://cenjars.org/event/millstone-scouts-rocket-build-3/
LOCATION:Millstone Community Center\, 463 Stagecoach Road\, Millstone Township\, NJ\, United States
CATEGORIES:Build
END:VEVENT
BEGIN:VEVENT
DTSTART;TZID=Asia/Karachi:20250803T123000
DTEND;TZID=Asia/Karachi:20250803T170000
DTSTAMP:20260423T060008
CREATED:20241202T134034Z
LAST-MODIFIED:20241202T134034Z
UID:26378-1754224200-1754240400@cenjars.org
SUMMARY:SCHEDULED LAUNCH
DESCRIPTION:CENJARS scheduled Launch for the month of August 2025.
URL:https://cenjars.org/event/scheduled-launch-aug-2025/
LOCATION:Wall High School Athletic Complex\, Wall High School Athletic Complex\, 18th Avenue\, Wall\, NJ\, United States
CATEGORIES:Launch
END:VEVENT
BEGIN:VEVENT
DTSTART;TZID=Asia/Karachi:20250706T123000
DTEND;TZID=Asia/Karachi:20250706T170000
DTSTAMP:20260423T060008
CREATED:20241202T133947Z
LAST-MODIFIED:20241202T133947Z
UID:26376-1751805000-1751821200@cenjars.org
SUMMARY:SCHEDULED LAUNCH
DESCRIPTION:CENJARS scheduled Launch for the month of July 2025.
URL:https://cenjars.org/event/scheduled-launch-jul-2025/
LOCATION:Wall High School Athletic Complex\, Wall High School Athletic Complex\, 18th Avenue\, Wall\, NJ\, United States
CATEGORIES:Launch
END:VEVENT
BEGIN:VEVENT
DTSTART;TZID=Asia/Karachi:20250601T123000
DTEND;TZID=Asia/Karachi:20250601T170000
DTSTAMP:20260423T060008
CREATED:20241202T133902Z
LAST-MODIFIED:20241202T133902Z
UID:26374-1748781000-1748797200@cenjars.org
SUMMARY:SCHEDULED LAUNCH
DESCRIPTION:CENJARS scheduled Launch for the month of June 2025.
URL:https://cenjars.org/event/scheduled-launch-jun-2025/
LOCATION:Wall High School Athletic Complex\, Wall High School Athletic Complex\, 18th Avenue\, Wall\, NJ\, United States
CATEGORIES:Launch
END:VEVENT
BEGIN:VEVENT
DTSTART;TZID=Asia/Karachi:20250518T123000
DTEND;TZID=Asia/Karachi:20250518T170000
DTSTAMP:20260423T060008
CREATED:20250509T192806Z
LAST-MODIFIED:20250509T192806Z
UID:27279-1747571400-1747587600@cenjars.org
SUMMARY:SCHEDULED LAUNCH
DESCRIPTION:CENJARS Rescheduled Launch for the month of May 2025.
URL:https://cenjars.org/event/scheduled-launch-36/
LOCATION:Wall High School Athletic Complex\, Wall High School Athletic Complex\, 18th Avenue\, Wall\, NJ\, United States
CATEGORIES:Launch
END:VEVENT
BEGIN:VEVENT
DTSTART;TZID=Asia/Karachi:20250504T123000
DTEND;TZID=Asia/Karachi:20250504T170000
DTSTAMP:20260423T060008
CREATED:20241202T133818Z
LAST-MODIFIED:20250504T115103Z
UID:26372-1746361800-1746378000@cenjars.org
SUMMARY:SCHEDULED LAUNCH
DESCRIPTION:CENJARS scheduled Launch for the month of May 2025.
URL:https://cenjars.org/event/scheduled-launch-may-2025/
LOCATION:Wall High School Athletic Complex\, Wall High School Athletic Complex\, 18th Avenue\, Wall\, NJ\, United States
CATEGORIES:Launch
END:VEVENT
BEGIN:VEVENT
DTSTART;TZID=America/New_York:20250503T100000
DTEND;TZID=America/New_York:20250503T130000
DTSTAMP:20260423T060008
CREATED:20250428T175335Z
LAST-MODIFIED:20250428T175335Z
UID:27052-1746266400-1746277200@cenjars.org
SUMMARY:Scouting Pack 22 Launch
DESCRIPTION:Forum Discussion \n 
URL:https://cenjars.org/event/scouting-pack-22-launch-2/
LOCATION:Dorbrook Recreation Area\, 353 Route 537\, Colts Neck\, NJ\, 07722\, United States
CATEGORIES:Outreach
END:VEVENT
BEGIN:VEVENT
DTSTART;TZID=Asia/Karachi:20250428T080000
DTEND;TZID=Asia/Karachi:20250428T110000
DTSTAMP:20260423T060008
CREATED:20250402T190354Z
LAST-MODIFIED:20250402T190354Z
UID:27007-1745827200-1745838000@cenjars.org
SUMMARY:Arbor School Launch
DESCRIPTION:CENJARS outreach launch at Arbor Elementary School
URL:https://cenjars.org/event/arbor-school-launch-4/
LOCATION:Arbor Elementary School\, 1717 Lester Place\, Piscataway\, NJ\, United States
CATEGORIES:Outreach
END:VEVENT
BEGIN:VEVENT
DTSTART;TZID=Asia/Karachi:20250413T123000
DTEND;TZID=Asia/Karachi:20250413T170000
DTSTAMP:20260423T060008
CREATED:20250410T214841Z
LAST-MODIFIED:20250410T214841Z
UID:27011-1744547400-1744563600@cenjars.org
SUMMARY:SCHEDULED LAUNCH
DESCRIPTION:CENJARS scheduled Launch for the month of April 2025.
URL:https://cenjars.org/event/scheduled-launch-35/
LOCATION:Wall High School Athletic Complex\, Wall High School Athletic Complex\, 18th Avenue\, Wall\, NJ\, United States
CATEGORIES:Launch
END:VEVENT
BEGIN:VEVENT
DTSTART;TZID=Asia/Karachi:20250406T123000
DTEND;TZID=Asia/Karachi:20250406T170000
DTSTAMP:20260423T060008
CREATED:20241202T133736Z
LAST-MODIFIED:20250406T112512Z
UID:26370-1743942600-1743958800@cenjars.org
SUMMARY:SCHEDULED LAUNCH
DESCRIPTION:CENJARS scheduled Launch for the month of April 2025.
URL:https://cenjars.org/event/scheduled-launch-apr-2025/
LOCATION:Wall High School Athletic Complex\, Wall High School Athletic Complex\, 18th Avenue\, Wall\, NJ\, United States
CATEGORIES:Launch
END:VEVENT
BEGIN:VEVENT
DTSTART;TZID=Asia/Karachi:20250309T113000
DTEND;TZID=Asia/Karachi:20250309T170000
DTSTAMP:20260423T060008
CREATED:20250308T120646Z
LAST-MODIFIED:20250308T120646Z
UID:26774-1741519800-1741539600@cenjars.org
SUMMARY:SCHEDULED LAUNCH
DESCRIPTION:CENJARS rescheduled Launch for the month of March 2025.
URL:https://cenjars.org/event/scheduled-launch-34/
LOCATION:Wall High School Athletic Complex\, Wall High School Athletic Complex\, 18th Avenue\, Wall\, NJ\, United States
CATEGORIES:Launch
END:VEVENT
BEGIN:VEVENT
DTSTART;TZID=Asia/Karachi:20250302T123000
DTEND;TZID=Asia/Karachi:20250302T170000
DTSTAMP:20260423T060008
CREATED:20241202T133650Z
LAST-MODIFIED:20250301T214629Z
UID:26368-1740918600-1740934800@cenjars.org
SUMMARY:SCHEDULED LAUNCH
DESCRIPTION:CENJARS scheduled Launch for the month of March 2025.
URL:https://cenjars.org/event/scheduled-launch-mar-2025/
LOCATION:Wall High School Athletic Complex\, Wall High School Athletic Complex\, 18th Avenue\, Wall\, NJ\, United States
CATEGORIES:Launch
END:VEVENT
BEGIN:VEVENT
DTSTART;TZID=Asia/Karachi:20250202T123000
DTEND;TZID=Asia/Karachi:20250202T170000
DTSTAMP:20260423T060008
CREATED:20241202T133600Z
LAST-MODIFIED:20241202T133610Z
UID:26365-1738499400-1738515600@cenjars.org
SUMMARY:SCHEDULED LAUNCH
DESCRIPTION:CENJARS scheduled Launch for the month of February 2025.
URL:https://cenjars.org/event/scheduled-launch-feb-2025/
LOCATION:Wall High School Athletic Complex\, Wall High School Athletic Complex\, 18th Avenue\, Wall\, NJ\, United States
CATEGORIES:Launch
END:VEVENT
BEGIN:VEVENT
DTSTART;TZID=Asia/Karachi:20250112T123000
DTEND;TZID=Asia/Karachi:20250112T170000
DTSTAMP:20260423T060008
CREATED:20250107T125338Z
LAST-MODIFIED:20250107T125338Z
UID:26517-1736685000-1736701200@cenjars.org
SUMMARY:SCHEDULED LAUNCH
DESCRIPTION:CENJARS rescheduled Launch for the month of January 2025.
URL:https://cenjars.org/event/scheduled-launch-12-jan-2025/
LOCATION:Wall High School Athletic Complex\, Wall High School Athletic Complex\, 18th Avenue\, Wall\, NJ\, United States
CATEGORIES:Launch
END:VEVENT
BEGIN:VEVENT
DTSTART;TZID=Asia/Karachi:20250105T123000
DTEND;TZID=Asia/Karachi:20250105T170000
DTSTAMP:20260423T060008
CREATED:20241202T133500Z
LAST-MODIFIED:20250105T130617Z
UID:26363-1736080200-1736096400@cenjars.org
SUMMARY:SCHEDULED LAUNCH
DESCRIPTION:CENJARS scheduled Launch for the month of January 2025. \nThis launch has been scrubbed!!! \nThere is no rescheduled launch date as of this notice.
URL:https://cenjars.org/event/scheduled-launch-jan-2025/
LOCATION:Wall High School Athletic Complex\, Wall High School Athletic Complex\, 18th Avenue\, Wall\, NJ\, United States
CATEGORIES:Launch
END:VEVENT
BEGIN:VEVENT
DTSTART;TZID=America/New_York:20241206T180000
DTEND;TZID=America/New_York:20241206T200000
DTSTAMP:20260423T060008
CREATED:20241202T003610Z
LAST-MODIFIED:20241202T003610Z
UID:26206-1733508000-1733515200@cenjars.org
SUMMARY:Wall *Holiday* Tree lighting
DESCRIPTION:
URL:https://cenjars.org/event/wall-holiday-tree-lighting/
LOCATION:Wall Municipal Building Courtyard\, 2700 Allaire Road\, Wall Township\, NJ\, 07719-9570\, United States
END:VEVENT
BEGIN:VEVENT
DTSTART;TZID=Asia/Karachi:20241201T100000
DTEND;TZID=Asia/Karachi:20241201T170000
DTSTAMP:20260423T060008
CREATED:20230930T195927Z
LAST-MODIFIED:20241128T231148Z
UID:22429-1733047200-1733072400@cenjars.org
SUMMARY:SCHEDULED LAUNCH
DESCRIPTION:CENJARS scheduled Launch for the month of December 2024.
URL:https://cenjars.org/event/scheduled-launch-30/
LOCATION:Wall High School Athletic Complex\, Wall High School Athletic Complex\, 18th Avenue\, Wall\, NJ\, United States
CATEGORIES:Launch
END:VEVENT
BEGIN:VEVENT
DTSTART;TZID=America/New_York:20241116T090000
DTEND;TZID=America/New_York:20241116T120000
DTSTAMP:20260423T060008
CREATED:20241117T121823Z
LAST-MODIFIED:20241117T121823Z
UID:26159-1731747600-1731758400@cenjars.org
SUMMARY:Civil Air Partol
DESCRIPTION:Civil Air Patrol rocket build.
URL:https://cenjars.org/event/civil-air-partol/
LOCATION:National Guard Hangar West\, 241 Scotch Road\, Trenton\, NJ\, 08628\, United States
END:VEVENT
BEGIN:VEVENT
DTSTART;TZID=Asia/Karachi:20241103T110000
DTEND;TZID=Asia/Karachi:20241103T170000
DTSTAMP:20260423T060008
CREATED:20230930T195844Z
LAST-MODIFIED:20241103T121111Z
UID:22427-1730631600-1730653200@cenjars.org
SUMMARY:SCHEDULED LAUNCH
DESCRIPTION:CENJARS scheduled Launch for the month of November 2024.
URL:https://cenjars.org/event/scheduled-launch-29/
LOCATION:Wall High School Athletic Complex\, Wall High School Athletic Complex\, 18th Avenue\, Wall\, NJ\, United States
CATEGORIES:Launch
END:VEVENT
BEGIN:VEVENT
DTSTART;TZID=Asia/Karachi:20241006T123000
DTEND;TZID=Asia/Karachi:20241006T170000
DTSTAMP:20260423T060008
CREATED:20230930T195806Z
LAST-MODIFIED:20230930T195806Z
UID:22425-1728217800-1728234000@cenjars.org
SUMMARY:SCHEDULED LAUNCH
DESCRIPTION:CENJARS scheduled Launch for the month of October 2024.
URL:https://cenjars.org/event/scheduled-launch-28/
LOCATION:Wall High School Athletic Complex\, Wall High School Athletic Complex\, 18th Avenue\, Wall\, NJ\, United States
CATEGORIES:Launch
END:VEVENT
BEGIN:VEVENT
DTSTART;TZID=Asia/Karachi:20240922T100000
DTEND;TZID=Asia/Karachi:20240922T140000
DTSTAMP:20260423T060008
CREATED:20240829T202053Z
LAST-MODIFIED:20240829T202855Z
UID:25265-1726999200-1727013600@cenjars.org
SUMMARY:Kids Day America 2024 — Rain Date
DESCRIPTION:CENJARS outreach demonstration launch at Kids Day America 2024
URL:https://cenjars.org/event/kids-day-america-2024-rain-date/
LOCATION:Wall Municipal Building Courtyard\, 2700 Allaire Road\, Wall Township\, NJ\, 07719-9570\, United States
CATEGORIES:Outreach
END:VEVENT
BEGIN:VEVENT
DTSTART;TZID=Asia/Karachi:20240921T100000
DTEND;TZID=Asia/Karachi:20240921T140000
DTSTAMP:20260423T060008
CREATED:20240829T201941Z
LAST-MODIFIED:20240829T202819Z
UID:25263-1726912800-1726927200@cenjars.org
SUMMARY:Kids Day America 2024
DESCRIPTION:CENJARS outreach demonstration launch at Kids Day America 2024
URL:https://cenjars.org/event/kids-day-america-2024/
LOCATION:Wall Municipal Building Courtyard\, 2700 Allaire Road\, Wall Township\, NJ\, 07719-9570\, United States
CATEGORIES:Outreach
END:VEVENT
BEGIN:VEVENT
DTSTART;TZID=Asia/Karachi:20240901T123000
DTEND;TZID=Asia/Karachi:20240901T170000
DTSTAMP:20260423T060008
CREATED:20230930T195732Z
LAST-MODIFIED:20240814T124113Z
UID:22423-1725193800-1725210000@cenjars.org
SUMMARY:SCHEDULED LAUNCH
DESCRIPTION:😁CENJARS scheduled Launch for the month of September 2024.
URL:https://cenjars.org/event/scheduled-launch-27/
LOCATION:Wall High School Athletic Complex\, Wall High School Athletic Complex\, 18th Avenue\, Wall\, NJ\, United States
CATEGORIES:Launch
END:VEVENT
BEGIN:VEVENT
DTSTART;TZID=Asia/Karachi:20240811T123000
DTEND;TZID=Asia/Karachi:20240811T170000
DTSTAMP:20260423T060008
CREATED:20240807T135323Z
LAST-MODIFIED:20240807T135444Z
UID:24917-1723379400-1723395600@cenjars.org
SUMMARY:SCHEDULED LAUNCH
DESCRIPTION:CENJARS scheduled Launch for the month of August 2024.
URL:https://cenjars.org/event/scheduled-launch-11-aug-2024/
LOCATION:Wall High School Athletic Complex\, Wall High School Athletic Complex\, 18th Avenue\, Wall\, NJ\, United States
CATEGORIES:Launch
END:VEVENT
BEGIN:VEVENT
DTSTART;TZID=America/New_York:20240810T080000
DTEND;TZID=America/New_York:20240810T140000
DTSTAMP:20260423T060008
CREATED:20240322T130421Z
LAST-MODIFIED:20240708T201330Z
UID:23704-1723276800-1723298400@cenjars.org
SUMMARY:Millstone Scouts Rocket Launch
DESCRIPTION:Millstone Scouts have asked CENJARS to assist with their rocket launch.
URL:https://cenjars.org/event/millstone-scouts-rocket-launch-2024/
LOCATION:Millstone Middle School\, 5 Dawson Court\, Millstone Township\, NJ\, United States
CATEGORIES:Build
END:VEVENT
BEGIN:VEVENT
DTSTART;TZID=America/New_York:20240809T170000
DTEND;TZID=America/New_York:20240809T210000
DTSTAMP:20260423T060008
CREATED:20240322T130259Z
LAST-MODIFIED:20240708T201235Z
UID:23703-1723222800-1723237200@cenjars.org
SUMMARY:Millstone Scouts Rocket Build
DESCRIPTION:Millstone Scouts have asked CENJARS to assist with their rocket build.
URL:https://cenjars.org/event/millstone-scouts-rocket-build-2024/
LOCATION:Millstone Community Center\, 463 Stagecoach Road\, Millstone Township\, NJ\, United States
CATEGORIES:Build
END:VEVENT
END:VCALENDAR