BEGIN:VCALENDAR
VERSION:2.0
PRODID:-//CENJARS - ECPv5.16.4//NONSGML v1.0//EN
CALSCALE:GREGORIAN
METHOD:PUBLISH
X-WR-CALNAME:CENJARS
X-ORIGINAL-URL:https://cenjars.org
X-WR-CALDESC:Events for CENJARS
REFRESH-INTERVAL;VALUE=DURATION:PT1H
X-Robots-Tag:noindex
X-PUBLISHED-TTL:PT1H
BEGIN:VTIMEZONE
TZID:Asia/Karachi
BEGIN:STANDARD
TZOFFSETFROM:+0500
TZOFFSETTO:+0500
TZNAME:PKT
DTSTART:20230101T000000
END:STANDARD
TZID:America/New_York
BEGIN:DAYLIGHT
TZOFFSETFROM:-0500
TZOFFSETTO:-0400
TZNAME:EDT
DTSTART:20230312T070000
END:DAYLIGHT
BEGIN:STANDARD
TZOFFSETFROM:-0400
TZOFFSETTO:-0500
TZNAME:EST
DTSTART:20231105T060000
END:STANDARD
BEGIN:DAYLIGHT
TZOFFSETFROM:-0500
TZOFFSETTO:-0400
TZNAME:EDT
DTSTART:20240310T070000
END:DAYLIGHT
BEGIN:STANDARD
TZOFFSETFROM:-0400
TZOFFSETTO:-0500
TZNAME:EST
DTSTART:20241103T060000
END:STANDARD
END:VTIMEZONE
BEGIN:VEVENT
DTSTART;TZID=Asia/Karachi:20241006T123000
DTEND;TZID=Asia/Karachi:20241006T170000
DTSTAMP:20260423T060008
CREATED:20230930T195806Z
LAST-MODIFIED:20230930T195806Z
UID:22425-1728217800-1728234000@cenjars.org
SUMMARY:SCHEDULED LAUNCH
DESCRIPTION:CENJARS scheduled Launch for the month of October 2024.
URL:https://cenjars.org/event/scheduled-launch-28/
LOCATION:Wall High School Athletic Complex\, Wall High School Athletic Complex\, 18th Avenue\, Wall\, NJ\, United States
CATEGORIES:Launch
END:VEVENT
BEGIN:VEVENT
DTSTART;TZID=Asia/Karachi:20240922T100000
DTEND;TZID=Asia/Karachi:20240922T140000
DTSTAMP:20260423T060008
CREATED:20240829T202053Z
LAST-MODIFIED:20240829T202855Z
UID:25265-1726999200-1727013600@cenjars.org
SUMMARY:Kids Day America 2024 — Rain Date
DESCRIPTION:CENJARS outreach demonstration launch at Kids Day America 2024
URL:https://cenjars.org/event/kids-day-america-2024-rain-date/
LOCATION:Wall Municipal Building Courtyard\, 2700 Allaire Road\, Wall Township\, NJ\, 07719-9570\, United States
CATEGORIES:Outreach
END:VEVENT
BEGIN:VEVENT
DTSTART;TZID=Asia/Karachi:20240921T100000
DTEND;TZID=Asia/Karachi:20240921T140000
DTSTAMP:20260423T060008
CREATED:20240829T201941Z
LAST-MODIFIED:20240829T202819Z
UID:25263-1726912800-1726927200@cenjars.org
SUMMARY:Kids Day America 2024
DESCRIPTION:CENJARS outreach demonstration launch at Kids Day America 2024
URL:https://cenjars.org/event/kids-day-america-2024/
LOCATION:Wall Municipal Building Courtyard\, 2700 Allaire Road\, Wall Township\, NJ\, 07719-9570\, United States
CATEGORIES:Outreach
END:VEVENT
BEGIN:VEVENT
DTSTART;TZID=Asia/Karachi:20240901T123000
DTEND;TZID=Asia/Karachi:20240901T170000
DTSTAMP:20260423T060008
CREATED:20230930T195732Z
LAST-MODIFIED:20240814T124113Z
UID:22423-1725193800-1725210000@cenjars.org
SUMMARY:SCHEDULED LAUNCH
DESCRIPTION:😁CENJARS scheduled Launch for the month of September 2024.
URL:https://cenjars.org/event/scheduled-launch-27/
LOCATION:Wall High School Athletic Complex\, Wall High School Athletic Complex\, 18th Avenue\, Wall\, NJ\, United States
CATEGORIES:Launch
END:VEVENT
BEGIN:VEVENT
DTSTART;TZID=Asia/Karachi:20240811T123000
DTEND;TZID=Asia/Karachi:20240811T170000
DTSTAMP:20260423T060008
CREATED:20240807T135323Z
LAST-MODIFIED:20240807T135444Z
UID:24917-1723379400-1723395600@cenjars.org
SUMMARY:SCHEDULED LAUNCH
DESCRIPTION:CENJARS scheduled Launch for the month of August 2024.
URL:https://cenjars.org/event/scheduled-launch-11-aug-2024/
LOCATION:Wall High School Athletic Complex\, Wall High School Athletic Complex\, 18th Avenue\, Wall\, NJ\, United States
CATEGORIES:Launch
END:VEVENT
BEGIN:VEVENT
DTSTART;TZID=America/New_York:20240810T080000
DTEND;TZID=America/New_York:20240810T140000
DTSTAMP:20260423T060008
CREATED:20240322T130421Z
LAST-MODIFIED:20240708T201330Z
UID:23704-1723276800-1723298400@cenjars.org
SUMMARY:Millstone Scouts Rocket Launch
DESCRIPTION:Millstone Scouts have asked CENJARS to assist with their rocket launch.
URL:https://cenjars.org/event/millstone-scouts-rocket-launch-2024/
LOCATION:Millstone Middle School\, 5 Dawson Court\, Millstone Township\, NJ\, United States
CATEGORIES:Build
END:VEVENT
BEGIN:VEVENT
DTSTART;TZID=America/New_York:20240809T170000
DTEND;TZID=America/New_York:20240809T210000
DTSTAMP:20260423T060008
CREATED:20240322T130259Z
LAST-MODIFIED:20240708T201235Z
UID:23703-1723222800-1723237200@cenjars.org
SUMMARY:Millstone Scouts Rocket Build
DESCRIPTION:Millstone Scouts have asked CENJARS to assist with their rocket build.
URL:https://cenjars.org/event/millstone-scouts-rocket-build-2024/
LOCATION:Millstone Community Center\, 463 Stagecoach Road\, Millstone Township\, NJ\, United States
CATEGORIES:Build
END:VEVENT
BEGIN:VEVENT
DTSTART;TZID=Asia/Karachi:20240804T123000
DTEND;TZID=Asia/Karachi:20240804T170000
DTSTAMP:20260423T060008
CREATED:20230930T195658Z
LAST-MODIFIED:20240802T142605Z
UID:22421-1722774600-1722790800@cenjars.org
SUMMARY:SCHEDULED LAUNCH
DESCRIPTION:CENJARS scheduled Launch for the month of August 2024.
URL:https://cenjars.org/event/scheduled-launch-26/
LOCATION:Wall High School Athletic Complex\, Wall High School Athletic Complex\, 18th Avenue\, Wall\, NJ\, United States
CATEGORIES:Launch
END:VEVENT
BEGIN:VEVENT
DTSTART;TZID=Asia/Karachi:20240707T123000
DTEND;TZID=Asia/Karachi:20240707T170000
DTSTAMP:20260423T060008
CREATED:20230930T195612Z
LAST-MODIFIED:20230930T195621Z
UID:22419-1720355400-1720371600@cenjars.org
SUMMARY:SCHEDULED LAUNCH
DESCRIPTION:CENJARS scheduled Launch for the month of July 2024.
URL:https://cenjars.org/event/scheduled-launch-25/
LOCATION:Wall High School Athletic Complex\, Wall High School Athletic Complex\, 18th Avenue\, Wall\, NJ\, United States
CATEGORIES:Launch
END:VEVENT
BEGIN:VEVENT
DTSTART;TZID=America/New_York:20240606T080000
DTEND;TZID=America/New_York:20240609T170000
DTSTAMP:20260423T060008
CREATED:20240301T124107Z
LAST-MODIFIED:20240301T124107Z
UID:23497-1717660800-1717952400@cenjars.org
SUMMARY:LDRS-42 @ URRG
DESCRIPTION:LDRS (Large Dangerous Rocket Ships) 42 will be hosted by URRG (Upstate Research Rocketry Group) this year. This is a major rocketry event! Four days of rockets and many BFR (Big Freakin’ Rockets) flights.
URL:https://cenjars.org/event/ldrs-42-urrg/
LOCATION:Torrey Farms of Potter\, 4270 State Route NY-364\, Penn Yan\, NY\, 14527\, United States
END:VEVENT
BEGIN:VEVENT
DTSTART;TZID=Asia/Karachi:20240602T123000
DTEND;TZID=Asia/Karachi:20240602T170000
DTSTAMP:20260423T060008
CREATED:20230930T195534Z
LAST-MODIFIED:20230930T195534Z
UID:22417-1717331400-1717347600@cenjars.org
SUMMARY:SCHEDULED LAUNCH
DESCRIPTION:CENJARS scheduled Launch for the month of June 2024.
URL:https://cenjars.org/event/scheduled-launch-24/
LOCATION:Wall High School Athletic Complex\, Wall High School Athletic Complex\, 18th Avenue\, Wall\, NJ\, United States
CATEGORIES:Launch
END:VEVENT
BEGIN:VEVENT
DTSTART;TZID=Asia/Karachi:20240519T123000
DTEND;TZID=Asia/Karachi:20240519T170000
DTSTAMP:20260423T060008
CREATED:20240507T133611Z
LAST-MODIFIED:20240507T133611Z
UID:24093-1716121800-1716138000@cenjars.org
SUMMARY:SCHEDULED LAUNCH
DESCRIPTION:CENJARS scheduled Launch for the month of May 2024.
URL:https://cenjars.org/event/scheduled-launch-32/
LOCATION:Wall High School Athletic Complex\, Wall High School Athletic Complex\, 18th Avenue\, Wall\, NJ\, United States
CATEGORIES:Launch
END:VEVENT
BEGIN:VEVENT
DTSTART;TZID=America/New_York:20240511T140000
DTEND;TZID=America/New_York:20240511T170000
DTSTAMP:20260423T060008
CREATED:20240306T012354Z
LAST-MODIFIED:20240306T012917Z
UID:23573-1715436000-1715446800@cenjars.org
SUMMARY:Scouting Pack 22 Launch
DESCRIPTION:Forum Discussion \n 
URL:https://cenjars.org/event/scouting-pack-22-2024/
LOCATION:Dorbrook Recreation Area\, 353 Route 537\, Colts Neck\, NJ\, 07722\, United States
CATEGORIES:Outreach
END:VEVENT
BEGIN:VEVENT
DTSTART;TZID=Asia/Karachi:20240505T123000
DTEND;TZID=Asia/Karachi:20240505T170000
DTSTAMP:20260423T060008
CREATED:20230930T195453Z
LAST-MODIFIED:20240507T133347Z
UID:22415-1714912200-1714928400@cenjars.org
SUMMARY:SCHEDULED LAUNCH
DESCRIPTION:CENJARS scheduled Launch for the month of May 2024.
URL:https://cenjars.org/event/scheduled-launch-23/
LOCATION:Wall High School Athletic Complex\, Wall High School Athletic Complex\, 18th Avenue\, Wall\, NJ\, United States
CATEGORIES:Launch
END:VEVENT
BEGIN:VEVENT
DTSTART;TZID=Asia/Karachi:20240423T080000
DTEND;TZID=Asia/Karachi:20240423T110000
DTSTAMP:20260423T060008
CREATED:20240302T191027Z
LAST-MODIFIED:20240421T165317Z
UID:23500-1713859200-1713870000@cenjars.org
SUMMARY:Arbor School Launch
DESCRIPTION:CENJARS outreach launch at Arbor Elementary School
URL:https://cenjars.org/event/arbor-school-launch-3/
LOCATION:Arbor Elementary School\, 1717 Lester Place\, Piscataway\, NJ\, United States
CATEGORIES:Outreach
END:VEVENT
BEGIN:VEVENT
DTSTART;TZID=Asia/Karachi:20240407T100000
DTEND;TZID=Asia/Karachi:20240407T170000
DTSTAMP:20260423T060008
CREATED:20230930T195422Z
LAST-MODIFIED:20240404T130535Z
UID:22413-1712484000-1712509200@cenjars.org
SUMMARY:SCHEDULED LAUNCH
DESCRIPTION:CENJARS scheduled Launch for the month of April 2024.
URL:https://cenjars.org/event/scheduled-launch-22/
LOCATION:Wall High School Athletic Complex\, Wall High School Athletic Complex\, 18th Avenue\, Wall\, NJ\, United States
CATEGORIES:Launch
END:VEVENT
BEGIN:VEVENT
DTSTART;TZID=Asia/Karachi:20240303T123000
DTEND;TZID=Asia/Karachi:20240303T170000
DTSTAMP:20260423T060008
CREATED:20230930T195346Z
LAST-MODIFIED:20230930T195346Z
UID:22411-1709469000-1709485200@cenjars.org
SUMMARY:SCHEDULED LAUNCH
DESCRIPTION:CENJARS scheduled Launch for the month of March 2024.
URL:https://cenjars.org/event/scheduled-launch-21/
LOCATION:Wall High School Athletic Complex\, Wall High School Athletic Complex\, 18th Avenue\, Wall\, NJ\, United States
CATEGORIES:Launch
END:VEVENT
BEGIN:VEVENT
DTSTART;TZID=Asia/Karachi:20240204T123000
DTEND;TZID=Asia/Karachi:20240204T170000
DTSTAMP:20260423T060008
CREATED:20240128T123935Z
LAST-MODIFIED:20240128T123935Z
UID:23065-1707049800-1707066000@cenjars.org
SUMMARY:SCHEDULED LAUNCH
DESCRIPTION:CENJARS scheduled Launch for the month of February 2024.
URL:https://cenjars.org/event/scheduled-launch-31/
LOCATION:Wall High School Athletic Complex\, Wall High School Athletic Complex\, 18th Avenue\, Wall\, NJ\, United States
CATEGORIES:Launch
END:VEVENT
BEGIN:VEVENT
DTSTART;TZID=Asia/Karachi:20240127T100000
DTEND;TZID=Asia/Karachi:20240127T170000
DTSTAMP:20260423T060008
CREATED:20230930T195256Z
LAST-MODIFIED:20240124T174605Z
UID:22408-1706349600-1706374800@cenjars.org
SUMMARY:SCHEDULED LAUNCH
DESCRIPTION:CENJARS scheduled Launch for the month of January 2024.
URL:https://cenjars.org/event/scheduled-launch-copy/
LOCATION:Wall High School Athletic Complex\, Wall High School Athletic Complex\, 18th Avenue\, Wall\, NJ\, United States
CATEGORIES:Launch
END:VEVENT
BEGIN:VEVENT
DTSTART;TZID=Asia/Karachi:20240107T123000
DTEND;TZID=Asia/Karachi:20240107T170000
DTSTAMP:20260423T060008
CREATED:20230930T195216Z
LAST-MODIFIED:20240105T213005Z
UID:22406-1704630600-1704646800@cenjars.org
SUMMARY:SCHEDULED LAUNCH
DESCRIPTION:CENJARS scheduled Launch for the month of January 2024.
URL:https://cenjars.org/event/scheduled-launch-20/
LOCATION:Wall High School Athletic Complex\, Wall High School Athletic Complex\, 18th Avenue\, Wall\, NJ\, United States
CATEGORIES:Launch
END:VEVENT
BEGIN:VEVENT
DTSTART;TZID=Asia/Karachi:20231210T123000
DTEND;TZID=Asia/Karachi:20231210T170000
DTSTAMP:20260423T060008
CREATED:20231204T182509Z
LAST-MODIFIED:20231209T042602Z
UID:23023-1702211400-1702227600@cenjars.org
SUMMARY:SCHEDULED LAUNCH
DESCRIPTION:CENJARS scheduled Launch for the month of December 2023.
URL:https://cenjars.org/event/scheduled-launch-12_2023/
LOCATION:Wall High School Athletic Complex\, Wall High School Athletic Complex\, 18th Avenue\, Wall\, NJ\, United States
CATEGORIES:Launch
END:VEVENT
BEGIN:VEVENT
DTSTART;TZID=Asia/Karachi:20231208T180000
DTEND;TZID=Asia/Karachi:20231208T200000
DTSTAMP:20260423T060008
CREATED:20240219T184644Z
LAST-MODIFIED:20240219T184923Z
UID:23336-1702058400-1702065600@cenjars.org
SUMMARY:Wall Twp. Christmas Tree Lighting
DESCRIPTION:CENJARS outreach at the Wall Township Christmas Tree Lighting.
URL:https://cenjars.org/event/wall-twp-christmas-tree-lighting/
LOCATION:Wall Municipal Building Courtyard\, 2700 Allaire Road\, Wall Township\, NJ\, 07719-9570\, United States
CATEGORIES:Outreach
END:VEVENT
BEGIN:VEVENT
DTSTART;TZID=Asia/Karachi:20231203T123000
DTEND;TZID=Asia/Karachi:20231203T170000
DTSTAMP:20260423T060008
CREATED:20221108T144037Z
LAST-MODIFIED:20231204T182604Z
UID:20296-1701606600-1701622800@cenjars.org
SUMMARY:SCHEDULED LAUNCH
DESCRIPTION:CENJARS scheduled Launch for the month of December 2023.
URL:https://cenjars.org/event/scheduled-launch-19/
LOCATION:Wall High School Athletic Complex\, Wall High School Athletic Complex\, 18th Avenue\, Wall\, NJ\, United States
CATEGORIES:Launch
END:VEVENT
BEGIN:VEVENT
DTSTART;TZID=Asia/Karachi:20231105T123000
DTEND;TZID=Asia/Karachi:20231105T170000
DTSTAMP:20260423T060008
CREATED:20221108T144004Z
LAST-MODIFIED:20221108T144004Z
UID:20294-1699187400-1699203600@cenjars.org
SUMMARY:SCHEDULED LAUNCH
DESCRIPTION:CENJARS scheduled Launch for the month of November 2023.
URL:https://cenjars.org/event/scheduled-launch-18/
LOCATION:Wall High School Athletic Complex\, Wall High School Athletic Complex\, 18th Avenue\, Wall\, NJ\, United States
CATEGORIES:Launch
END:VEVENT
BEGIN:VEVENT
DTSTART;TZID=Asia/Karachi:20231001T123000
DTEND;TZID=Asia/Karachi:20231001T170000
DTSTAMP:20260423T060008
CREATED:20221108T143930Z
LAST-MODIFIED:20221108T143930Z
UID:20292-1696163400-1696179600@cenjars.org
SUMMARY:SCHEDULED LAUNCH
DESCRIPTION:CENJARS scheduled Launch for the month of October 2023.
URL:https://cenjars.org/event/scheduled-launch-17/
LOCATION:Wall High School Athletic Complex\, Wall High School Athletic Complex\, 18th Avenue\, Wall\, NJ\, United States
CATEGORIES:Launch
END:VEVENT
BEGIN:VEVENT
DTSTART;TZID=Asia/Karachi:20230930T100000
DTEND;TZID=Asia/Karachi:20230930T140000
DTSTAMP:20260423T060008
CREATED:20230929T222002Z
LAST-MODIFIED:20230929T222040Z
UID:22390-1696068000-1696082400@cenjars.org
SUMMARY:Kids Day America 2023
DESCRIPTION:CENJARS outreach launch and build at Kids Day America 2023
URL:https://cenjars.org/event/kids-day-america-2023-copy/
LOCATION:Wall Municipal Building Courtyard\, 2700 Allaire Road\, Wall Township\, NJ\, 07719-9570\, United States
CATEGORIES:Outreach
END:VEVENT
BEGIN:VEVENT
DTSTART;TZID=Asia/Karachi:20230923T100000
DTEND;TZID=Asia/Karachi:20230923T140000
DTSTAMP:20260423T060008
CREATED:20230821T005305Z
LAST-MODIFIED:20230929T221804Z
UID:22154-1695463200-1695477600@cenjars.org
SUMMARY:Kids Day America 2023
DESCRIPTION:CENJARS outreach launch and build at Kids Day America 2023
URL:https://cenjars.org/event/kids-day-america-2023/
LOCATION:Wall Municipal Building Courtyard\, 2700 Allaire Road\, Wall Township\, NJ\, 07719-9570\, United States
CATEGORIES:Outreach
END:VEVENT
BEGIN:VEVENT
DTSTART;TZID=Asia/Karachi:20230903T123000
DTEND;TZID=Asia/Karachi:20230903T170000
DTSTAMP:20260423T060008
CREATED:20221108T143856Z
LAST-MODIFIED:20221108T143856Z
UID:20290-1693744200-1693760400@cenjars.org
SUMMARY:SCHEDULED LAUNCH
DESCRIPTION:CENJARS scheduled Launch for the month of September 2023.
URL:https://cenjars.org/event/scheduled-launch-16/
LOCATION:Wall High School Athletic Complex\, Wall High School Athletic Complex\, 18th Avenue\, Wall\, NJ\, United States
CATEGORIES:Launch
END:VEVENT
BEGIN:VEVENT
DTSTART;TZID=America/New_York:20230819T090000
DTEND;TZID=America/New_York:20230819T120000
DTSTAMP:20260423T060008
CREATED:20230619T131616Z
LAST-MODIFIED:20230818T235341Z
UID:21821-1692435600-1692446400@cenjars.org
SUMMARY:Millstone Scouts Rocket Launch
DESCRIPTION:Millstone Scouts have asked CENJARS to assist with their rocket launch.
URL:https://cenjars.org/event/millstone-scouts-rocket-build/
LOCATION:Millstone Middle School\, 5 Dawson Court\, Millstone Township\, NJ\, United States
CATEGORIES:Build
END:VEVENT
BEGIN:VEVENT
DTSTART;TZID=America/New_York:20230818T180000
DTEND;TZID=America/New_York:20230818T200000
DTSTAMP:20260423T060008
CREATED:20230121T022736Z
LAST-MODIFIED:20230619T131021Z
UID:20566-1692381600-1692388800@cenjars.org
SUMMARY:Millstone Scouts Rocket Build
DESCRIPTION:Millstone Scouts have asked CENJARS to assist with their rocket build.
URL:https://cenjars.org/event/millstone-scouts-rocket-build-2/
LOCATION:Millstone Community Center\, 463 Stagecoach Road\, Millstone Township\, NJ\, United States
CATEGORIES:Build
END:VEVENT
END:VCALENDAR